Package: megadepth Version: 1.17.0 Maintainer: David Zhang MaintainerEmail: david.zhang.12 at ucl.ac.uk git_url: https://git.bioconductor.org/packages/megadepth git_branch: devel git_last_commit: d53868d git_last_commit_date: 2024-12-12 16:38:33 -0500 (Thu, 12 Dec 2024)