Package: mdqc Version: 1.71.0 Command: /Library/Frameworks/R.framework/Resources/bin/R CMD INSTALL mdqc StartedAt: 2025-05-01 15:03:21 -0400 (Thu, 01 May 2025) EndedAt: 2025-05-01 15:04:00 -0400 (Thu, 01 May 2025) EllapsedTime: 39.1 seconds RetCode: 0 Status: OK