Package: mdqc Version: 1.71.0 Command: /Library/Frameworks/R.framework/Resources/bin/R CMD INSTALL mdqc StartedAt: 2025-05-02 15:01:44 -0400 (Fri, 02 May 2025) EndedAt: 2025-05-02 15:01:48 -0400 (Fri, 02 May 2025) EllapsedTime: 3.8 seconds RetCode: 0 Status: OK