Package: mdqc Version: 1.71.0 Command: /Library/Frameworks/R.framework/Resources/bin/R CMD build --keep-empty-dirs --no-resave-data mdqc StartedAt: 2025-05-05 17:19:22 -0400 (Mon, 05 May 2025) EndedAt: 2025-05-05 17:19:26 -0400 (Mon, 05 May 2025) EllapsedTime: 4.0 seconds RetCode: 0 Status: OK PackageFile: mdqc_1.71.0.tar.gz PackageFileSize: 258.4 KiB