Package: mdp Version: 1.29.0 Command: chmod a+r mdp -R && F:\biocbuild\bbs-3.22-bioc\R\bin\R.exe CMD build --keep-empty-dirs --no-resave-data mdp StartedAt: 2025-08-14 21:16:40 -0400 (Thu, 14 Aug 2025) EndedAt: 2025-08-14 21:17:16 -0400 (Thu, 14 Aug 2025) EllapsedTime: 36.0 seconds RetCode: 0 Status: OK PackageFile: mdp_1.29.0.tar.gz PackageFileSize: 4.172 MiB