Package: mdp Version: 1.29.0 Command: rm -rf mdp.buildbin-libdir && mkdir mdp.buildbin-libdir && F:\biocbuild\bbs-3.22-bioc\R\bin\R.exe CMD INSTALL --build --library=mdp.buildbin-libdir mdp_1.29.0.tar.gz StartedAt: 2025-08-15 10:38:32 -0400 (Fri, 15 Aug 2025) EndedAt: 2025-08-15 10:38:44 -0400 (Fri, 15 Aug 2025) EllapsedTime: 11.2 seconds RetCode: 0 Status: OK PackageFile: mdp_1.29.0.zip PackageFileSize: 4.137 MiB