Package: mbkmeans Version: 1.25.0 Command: rm -rf mbkmeans.buildbin-libdir && mkdir mbkmeans.buildbin-libdir && /Users/biocbuild/BBS/utils/build-universal.sh mbkmeans_1.25.0.tar.gz /Library/Frameworks/R.framework/Resources/bin/R mbkmeans.buildbin-libdir StartedAt: 2025-10-02 01:58:32 -0400 (Thu, 02 Oct 2025) EndedAt: 2025-10-02 01:59:39 -0400 (Thu, 02 Oct 2025) EllapsedTime: 67.2 seconds RetCode: 0 Status: OK PackageFile: mbkmeans_1.25.0.tgz PackageFileSize: 444.9 KiB