Package: mbkmeans Version: 1.26.0 Command: /Library/Frameworks/R.framework/Resources/bin/R CMD INSTALL mbkmeans StartedAt: 2025-10-29 21:34:02 -0400 (Wed, 29 Oct 2025) EndedAt: 2025-10-29 21:34:18 -0400 (Wed, 29 Oct 2025) EllapsedTime: 15.9 seconds RetCode: 0 Status: OK