Package: mbkmeans Version: 1.26.0 Command: /Library/Frameworks/R.framework/Resources/bin/R CMD build --keep-empty-dirs --no-resave-data mbkmeans StartedAt: 2025-10-29 23:18:42 -0400 (Wed, 29 Oct 2025) EndedAt: 2025-10-29 23:19:18 -0400 (Wed, 29 Oct 2025) EllapsedTime: 36.5 seconds RetCode: 0 Status: OK PackageFile: mbkmeans_1.26.0.tar.gz PackageFileSize: 268.8 KiB