Package: mbQTL Version: 1.9.0 Command: /home/biocbuild/bbs-3.22-bioc/R/bin/R CMD INSTALL mbQTL StartedAt: 2025-10-08 15:24:43 -0400 (Wed, 08 Oct 2025) EndedAt: 2025-10-08 15:24:53 -0400 (Wed, 08 Oct 2025) EllapsedTime: 10.2 seconds RetCode: 0 Status: OK