Package: matter Version: 2.11.2 Command: /home/biocbuild/R/R/bin/R CMD build --keep-empty-dirs --no-resave-data matter StartedAt: 2025-09-30 01:06:24 -0000 (Tue, 30 Sep 2025) EndedAt: 2025-09-30 01:08:16 -0000 (Tue, 30 Sep 2025) EllapsedTime: 112.0 seconds RetCode: 0 Status: OK PackageFile: matter_2.11.2.tar.gz PackageFileSize: 1.916 MiB