Package: matter Version: 2.11.1 Command: chmod a+r matter -R && F:\biocbuild\bbs-3.22-bioc\R\bin\R.exe CMD build --keep-empty-dirs --no-resave-data matter StartedAt: 2025-08-14 21:15:10 -0400 (Thu, 14 Aug 2025) EndedAt: 2025-08-14 21:17:59 -0400 (Thu, 14 Aug 2025) EllapsedTime: 169.0 seconds RetCode: 0 Status: OK PackageFile: matter_2.11.1.tar.gz PackageFileSize: 1.408 MiB