Package: matter Version: 2.9.1 Command: /home/biocbuild/bbs-3.21-bioc/R/bin/R CMD build --keep-empty-dirs --no-resave-data matter StartedAt: 2025-01-31 17:58:58 -0500 (Fri, 31 Jan 2025) EndedAt: 2025-01-31 18:00:16 -0500 (Fri, 31 Jan 2025) EllapsedTime: 78.1 seconds RetCode: 0 Status: OK PackageFile: matter_2.9.1.tar.gz PackageFileSize: 3.048 MiB