Package: matter Version: 2.11.2 Command: /Library/Frameworks/R.framework/Resources/bin/R CMD build --keep-empty-dirs --no-resave-data matter StartedAt: 2025-10-01 17:37:45 -0400 (Wed, 01 Oct 2025) EndedAt: 2025-10-01 17:39:36 -0400 (Wed, 01 Oct 2025) EllapsedTime: 110.3 seconds RetCode: 0 Status: OK PackageFile: matter_2.11.2.tar.gz PackageFileSize: 2.817 MiB