Package: matter Version: 2.11.0 Maintainer: Kylie A. Bemis MaintainerEmail: k.bemis at northeastern.edu git_url: https://git.bioconductor.org/packages/matter git_branch: devel git_last_commit: 45538d4 git_last_commit_date: 2025-04-15 11:06:08 -0400 (Tue, 15 Apr 2025)