Package: matchBox Version: 1.51.0 Command: chmod a+r matchBox -R && F:\biocbuild\bbs-3.22-bioc\R\bin\R.exe CMD build --keep-empty-dirs --no-resave-data matchBox StartedAt: 2025-08-14 21:14:35 -0400 (Thu, 14 Aug 2025) EndedAt: 2025-08-14 21:14:51 -0400 (Thu, 14 Aug 2025) EllapsedTime: 16.0 seconds RetCode: 0 Status: OK PackageFile: matchBox_1.51.0.tar.gz PackageFileSize: 605 KiB