Package: mastR Version: 1.9.1 Command: /home/biocbuild/bbs-3.22-bioc/R/bin/R CMD build --keep-empty-dirs --no-resave-data --md5 mastR StartedAt: 2025-10-14 18:27:48 -0400 (Tue, 14 Oct 2025) EndedAt: 2025-10-14 18:30:08 -0400 (Tue, 14 Oct 2025) EllapsedTime: 140.1 seconds RetCode: 0 Status: OK PackageFile: mastR_1.9.1.tar.gz PackageFileSize: 4.178 MiB