Package: massiR Version: 1.43.0 Command: /Library/Frameworks/R.framework/Resources/bin/R CMD build --keep-empty-dirs --no-resave-data massiR StartedAt: 2025-02-16 17:09:01 -0500 (Sun, 16 Feb 2025) EndedAt: 2025-02-16 17:09:13 -0500 (Sun, 16 Feb 2025) EllapsedTime: 11.5 seconds RetCode: 0 Status: OK PackageFile: massiR_1.43.0.tar.gz PackageFileSize: 1.115 MiB