Package: massiR Version: 1.43.0 Command: rm -rf massiR.buildbin-libdir && mkdir massiR.buildbin-libdir && /Users/biocbuild/BBS/utils/build-universal.sh massiR_1.43.0.tar.gz /Library/Frameworks/R.framework/Resources/bin/R massiR.buildbin-libdir StartedAt: 2025-02-17 00:28:18 -0500 (Mon, 17 Feb 2025) EndedAt: 2025-02-17 00:28:25 -0500 (Mon, 17 Feb 2025) EllapsedTime: 6.9 seconds RetCode: 0 Status: OK PackageFile: massiR_1.43.0.tgz PackageFileSize: 1.148 MiB