Package: massiR Version: 1.43.0 Command: /home/biocbuild/R/R/bin/R CMD INSTALL massiR StartedAt: 2025-01-29 19:32:18 -0000 (Wed, 29 Jan 2025) EndedAt: 2025-01-29 19:32:42 -0000 (Wed, 29 Jan 2025) EllapsedTime: 23.7 seconds RetCode: 0 Status: OK