Package: massiR Version: 1.43.0 Command: /Library/Frameworks/R.framework/Resources/bin/R CMD build --keep-empty-dirs --no-resave-data massiR StartedAt: 2025-02-20 16:49:04 -0500 (Thu, 20 Feb 2025) EndedAt: 2025-02-20 16:49:08 -0500 (Thu, 20 Feb 2025) EllapsedTime: 4.0 seconds RetCode: 0 Status: OK PackageFile: massiR_1.43.0.tar.gz PackageFileSize: 1.115 MiB