Package: massiR Version: 1.43.0 Command: rm -rf massiR.buildbin-libdir && mkdir massiR.buildbin-libdir && /Users/biocbuild/BBS/utils/build-universal.sh massiR_1.43.0.tar.gz /Library/Frameworks/R.framework/Resources/bin/R massiR.buildbin-libdir StartedAt: 2025-02-19 22:27:30 -0500 (Wed, 19 Feb 2025) EndedAt: 2025-02-19 22:27:32 -0500 (Wed, 19 Feb 2025) EllapsedTime: 2.0 seconds RetCode: 0 Status: OK PackageFile: massiR_1.43.0.tgz PackageFileSize: 1.149 MiB