Package: maskBAD Version: 1.53.0 Command: /home/biocbuild/bbs-3.22-bioc/R/bin/R CMD INSTALL maskBAD StartedAt: 2025-10-10 16:09:23 -0400 (Fri, 10 Oct 2025) EndedAt: 2025-10-10 16:09:33 -0400 (Fri, 10 Oct 2025) EllapsedTime: 10.4 seconds RetCode: 0 Status: OK