Package: maser Version: 1.27.0 Command: /Library/Frameworks/R.framework/Resources/bin/R CMD check --install=check:maser.install-out.txt --library=/Library/Frameworks/R.framework/Resources/library --no-vignettes --timings maser_1.27.0.tar.gz StartedAt: 2025-05-02 21:35:02 -0400 (Fri, 02 May 2025) EndedAt: 2025-05-02 21:42:12 -0400 (Fri, 02 May 2025) EllapsedTime: 430.4 seconds RetCode: 0 Status: OK CheckDir: maser.Rcheck Warnings: 0