Package: maser Version: 1.27.0 Command: /Library/Frameworks/R.framework/Resources/bin/R CMD build --keep-empty-dirs --no-resave-data maser StartedAt: 2025-05-02 17:19:34 -0400 (Fri, 02 May 2025) EndedAt: 2025-05-02 17:22:07 -0400 (Fri, 02 May 2025) EllapsedTime: 153.0 seconds RetCode: 0 Status: OK PackageFile: maser_1.27.0.tar.gz PackageFileSize: 3.017 MiB