Package: maser Version: 1.27.0 Command: /Library/Frameworks/R.framework/Resources/bin/R CMD check --install=check:maser.install-out.txt --library=/Library/Frameworks/R.framework/Resources/library --no-vignettes --timings maser_1.27.0.tar.gz StartedAt: 2025-05-06 20:22:27 -0400 (Tue, 06 May 2025) EndedAt: 2025-05-06 20:25:21 -0400 (Tue, 06 May 2025) EllapsedTime: 173.1 seconds RetCode: 0 Status: OK CheckDir: maser.Rcheck Warnings: 0