Package: marray Version: 1.85.0 Command: /home/biocbuild/R/R/bin/R CMD INSTALL marray StartedAt: 2025-01-29 19:34:11 -0000 (Wed, 29 Jan 2025) EndedAt: 2025-01-29 19:34:25 -0000 (Wed, 29 Jan 2025) EllapsedTime: 14.2 seconds RetCode: 0 Status: OK