Package: marray Version: 1.85.0 Command: /home/biocbuild/R/R/bin/R CMD check --install=check:marray.install-out.txt --library=/home/biocbuild/R/R/site-library --no-vignettes --timings marray_1.85.0.tar.gz StartedAt: 2025-01-28 12:02:51 -0000 (Tue, 28 Jan 2025) EndedAt: 2025-01-28 12:03:52 -0000 (Tue, 28 Jan 2025) EllapsedTime: 61.1 seconds RetCode: 0 Status: OK CheckDir: marray.Rcheck Warnings: 0