Package: marray Version: 1.85.0 Command: /Library/Frameworks/R.framework/Resources/bin/R CMD INSTALL marray StartedAt: 2025-02-16 15:02:55 -0500 (Sun, 16 Feb 2025) EndedAt: 2025-02-16 15:02:57 -0500 (Sun, 16 Feb 2025) EllapsedTime: 2.9 seconds RetCode: 0 Status: OK