Package: marr Version: 1.19.0 Command: /home/biocbuild/bbs-3.22-bioc/R/bin/R CMD INSTALL marr StartedAt: 2025-10-07 15:19:23 -0400 (Tue, 07 Oct 2025) EndedAt: 2025-10-07 15:19:54 -0400 (Tue, 07 Oct 2025) EllapsedTime: 30.6 seconds RetCode: 0 Status: OK