Package: marr Version: 1.19.0 Command: /home/biocbuild/bbs-3.22-bioc/R/bin/R CMD build --keep-empty-dirs --no-resave-data --md5 marr StartedAt: 2025-10-07 18:29:24 -0400 (Tue, 07 Oct 2025) EndedAt: 2025-10-07 18:30:11 -0400 (Tue, 07 Oct 2025) EllapsedTime: 47.0 seconds RetCode: 0 Status: OK PackageFile: marr_1.19.0.tar.gz PackageFileSize: 620.6 KiB