Package: marr Version: 1.17.0 Command: /Library/Frameworks/R.framework/Resources/bin/R CMD check --install=check:marr.install-out.txt --library=/Library/Frameworks/R.framework/Resources/library --no-vignettes --timings marr_1.17.0.tar.gz StartedAt: 2025-02-19 20:01:24 -0500 (Wed, 19 Feb 2025) EndedAt: 2025-02-19 20:02:49 -0500 (Wed, 19 Feb 2025) EllapsedTime: 85.0 seconds RetCode: 0 Status: OK CheckDir: marr.Rcheck Warnings: 0