Package: markeR Version: 0.99.6 Command: /home/biocbuild/bbs-3.22-bioc/R/bin/R CMD INSTALL markeR StartedAt: 2025-10-21 15:17:11 -0400 (Tue, 21 Oct 2025) EndedAt: 2025-10-21 15:17:31 -0400 (Tue, 21 Oct 2025) EllapsedTime: 19.6 seconds RetCode: 0 Status: OK