Package: markeR Version: 0.99.6 Command: /home/biocbuild/bbs-3.22-bioc/R/bin/R CMD build --keep-empty-dirs --no-resave-data --md5 markeR StartedAt: 2025-10-21 18:26:59 -0400 (Tue, 21 Oct 2025) EndedAt: 2025-10-21 18:31:27 -0400 (Tue, 21 Oct 2025) EllapsedTime: 268.2 seconds RetCode: 0 Status: OK PackageFile: markeR_0.99.6.tar.gz PackageFileSize: 3.815 MiB