Package: mariner Version: 1.9.1 Command: /home/biocbuild/R/R/bin/R CMD build --keep-empty-dirs --no-resave-data mariner StartedAt: 2025-09-30 01:02:26 -0000 (Tue, 30 Sep 2025) EndedAt: 2025-09-30 01:04:33 -0000 (Tue, 30 Sep 2025) EllapsedTime: 127.1 seconds RetCode: 1 Status: ERROR PackageFile: None PackageFileSize: NA