Package: mariner Version: 1.9.1 Command: /home/biocbuild/bbs-3.22-bioc/R/bin/R CMD INSTALL mariner StartedAt: 2025-10-22 15:36:04 -0400 (Wed, 22 Oct 2025) EndedAt: 2025-10-22 15:36:49 -0400 (Wed, 22 Oct 2025) EllapsedTime: 45.0 seconds RetCode: 0 Status: OK