Package: mariner Version: 1.9.1 Command: /home/biocbuild/bbs-3.22-bioc/R/bin/R CMD build --keep-empty-dirs --no-resave-data --md5 mariner StartedAt: 2025-10-22 18:27:57 -0400 (Wed, 22 Oct 2025) EndedAt: 2025-10-22 18:29:47 -0400 (Wed, 22 Oct 2025) EllapsedTime: 110.1 seconds RetCode: 0 Status: OK PackageFile: mariner_1.9.1.tar.gz PackageFileSize: 912.8 KiB