Package: mariner Version: 1.7.0 Command: /Library/Frameworks/R.framework/Resources/bin/R CMD INSTALL mariner StartedAt: 2025-02-16 15:19:16 -0500 (Sun, 16 Feb 2025) EndedAt: 2025-02-16 15:20:08 -0500 (Sun, 16 Feb 2025) EllapsedTime: 52.3 seconds RetCode: 0 Status: OK