Package: mariner Version: 1.7.0 Command: /Library/Frameworks/R.framework/Resources/bin/R CMD build --keep-empty-dirs --no-resave-data mariner StartedAt: 2025-02-16 17:08:37 -0500 (Sun, 16 Feb 2025) EndedAt: 2025-02-16 17:10:42 -0500 (Sun, 16 Feb 2025) EllapsedTime: 124.5 seconds RetCode: 0 Status: OK PackageFile: mariner_1.7.0.tar.gz PackageFileSize: 707.9 KiB