Package: mapscape Version: 1.33.0 Command: chmod a+r mapscape -R && F:\biocbuild\bbs-3.22-bioc\R\bin\R.exe CMD build --keep-empty-dirs --no-resave-data mapscape StartedAt: 2025-08-14 21:12:13 -0400 (Thu, 14 Aug 2025) EndedAt: 2025-08-14 21:12:31 -0400 (Thu, 14 Aug 2025) EllapsedTime: 18.1 seconds RetCode: 0 Status: OK PackageFile: mapscape_1.33.0.tar.gz PackageFileSize: 4.795 MiB