Package: mapscape Version: 1.31.0 Command: rm -rf mapscape.buildbin-libdir && mkdir mapscape.buildbin-libdir && E:\biocbuild\bbs-3.21-bioc\R\bin\R.exe CMD INSTALL --build --library=mapscape.buildbin-libdir mapscape_1.31.0.tar.gz StartedAt: 2025-02-04 08:17:31 -0500 (Tue, 04 Feb 2025) EndedAt: 2025-02-04 08:17:51 -0500 (Tue, 04 Feb 2025) EllapsedTime: 20.2 seconds RetCode: 0 Status: OK PackageFile: mapscape_1.31.0.zip PackageFileSize: 4.136 MiB