Package: mapscape Version: 1.31.0 Command: /Library/Frameworks/R.framework/Resources/bin/R CMD INSTALL mapscape StartedAt: 2025-02-03 15:28:39 -0500 (Mon, 03 Feb 2025) EndedAt: 2025-02-03 15:28:43 -0500 (Mon, 03 Feb 2025) EllapsedTime: 3.9 seconds RetCode: 0 Status: OK