Package: mapscape Version: 1.31.0 Command: /home/biocbuild/R/R/bin/R CMD check --install=check:mapscape.install-out.txt --library=/home/biocbuild/R/R/site-library --no-vignettes --timings mapscape_1.31.0.tar.gz StartedAt: 2025-01-28 12:02:29 -0000 (Tue, 28 Jan 2025) EndedAt: 2025-01-28 12:02:51 -0000 (Tue, 28 Jan 2025) EllapsedTime: 22.0 seconds RetCode: 0 Status: WARNINGS CheckDir: mapscape.Rcheck Warnings: 1