Package: mapscape Version: 1.31.0 Command: /Library/Frameworks/R.framework/Resources/bin/R CMD INSTALL mapscape StartedAt: 2025-02-03 15:49:42 -0500 (Mon, 03 Feb 2025) EndedAt: 2025-02-03 15:49:43 -0500 (Mon, 03 Feb 2025) EllapsedTime: 1.5 seconds RetCode: 0 Status: OK