Package: makecdfenv Version: 1.83.1 Command: E:\biocbuild\bbs-3.21-bioc\R\bin\R.exe CMD INSTALL makecdfenv StartedAt: 2025-02-19 15:27:47 -0500 (Wed, 19 Feb 2025) EndedAt: 2025-02-19 15:28:17 -0500 (Wed, 19 Feb 2025) EllapsedTime: 29.6 seconds RetCode: 0 Status: OK