Package: makecdfenv Version: 1.83.1 Command: E:\biocbuild\bbs-3.21-bioc\R\bin\R.exe CMD check --no-multiarch --install=check:makecdfenv.install-out.txt --library=E:\biocbuild\bbs-3.21-bioc\R\library --no-vignettes --timings makecdfenv_1.83.1.tar.gz StartedAt: 2025-02-20 02:34:29 -0500 (Thu, 20 Feb 2025) EndedAt: 2025-02-20 02:35:23 -0500 (Thu, 20 Feb 2025) EllapsedTime: 53.5 seconds RetCode: 0 Status: OK CheckDir: makecdfenv.Rcheck Warnings: 0