Package: makecdfenv Version: 1.83.1 Command: /home/biocbuild/bbs-3.21-bioc/R/bin/R CMD INSTALL makecdfenv StartedAt: 2025-02-18 15:11:13 -0500 (Tue, 18 Feb 2025) EndedAt: 2025-02-18 15:11:21 -0500 (Tue, 18 Feb 2025) EllapsedTime: 7.7 seconds RetCode: 0 Status: OK