Package: makecdfenv Version: 1.83.1 Command: /home/biocbuild/bbs-3.21-bioc/R/bin/R CMD check --install=check:makecdfenv.install-out.txt --library=/home/biocbuild/bbs-3.21-bioc/R/site-library --timings makecdfenv_1.83.1.tar.gz StartedAt: 2025-02-18 23:26:09 -0500 (Tue, 18 Feb 2025) EndedAt: 2025-02-18 23:26:44 -0500 (Tue, 18 Feb 2025) EllapsedTime: 35.0 seconds RetCode: 0 Status: WARNINGS CheckDir: makecdfenv.Rcheck Warnings: 1