Package: makecdfenv Version: 1.83.1 Command: /Library/Frameworks/R.framework/Resources/bin/R CMD INSTALL makecdfenv StartedAt: 2025-02-19 15:02:17 -0500 (Wed, 19 Feb 2025) EndedAt: 2025-02-19 15:02:22 -0500 (Wed, 19 Feb 2025) EllapsedTime: 5.2 seconds RetCode: 0 Status: OK