Package: makecdfenv Version: 1.83.1 Command: /Library/Frameworks/R.framework/Resources/bin/R CMD build --keep-empty-dirs --no-resave-data makecdfenv StartedAt: 2025-02-20 16:48:16 -0500 (Thu, 20 Feb 2025) EndedAt: 2025-02-20 16:48:24 -0500 (Thu, 20 Feb 2025) EllapsedTime: 7.1 seconds RetCode: 0 Status: OK PackageFile: makecdfenv_1.83.1.tar.gz PackageFileSize: 3.258 MiB